BEGIN:VCALENDAR
VERSION:2.0
PRODID:-//Faith Wesleyan Church - ECPv6.15.17.1//NONSGML v1.0//EN
CALSCALE:GREGORIAN
METHOD:PUBLISH
X-ORIGINAL-URL:https://faithwesleyanchurch.org
X-WR-CALDESC:Events for Faith Wesleyan Church
REFRESH-INTERVAL;VALUE=DURATION:PT1H
X-Robots-Tag:noindex
X-PUBLISHED-TTL:PT1H
BEGIN:VTIMEZONE
TZID:America/Indiana/Indianapolis
BEGIN:DAYLIGHT
TZOFFSETFROM:-0500
TZOFFSETTO:-0400
TZNAME:EDT
DTSTART:20220313T070000
END:DAYLIGHT
BEGIN:STANDARD
TZOFFSETFROM:-0400
TZOFFSETTO:-0500
TZNAME:EST
DTSTART:20221106T060000
END:STANDARD
BEGIN:DAYLIGHT
TZOFFSETFROM:-0500
TZOFFSETTO:-0400
TZNAME:EDT
DTSTART:20230312T070000
END:DAYLIGHT
BEGIN:STANDARD
TZOFFSETFROM:-0400
TZOFFSETTO:-0500
TZNAME:EST
DTSTART:20231105T060000
END:STANDARD
BEGIN:DAYLIGHT
TZOFFSETFROM:-0500
TZOFFSETTO:-0400
TZNAME:EDT
DTSTART:20240310T070000
END:DAYLIGHT
BEGIN:STANDARD
TZOFFSETFROM:-0400
TZOFFSETTO:-0500
TZNAME:EST
DTSTART:20241103T060000
END:STANDARD
END:VTIMEZONE
BEGIN:VEVENT
DTSTART;TZID=America/Indiana/Indianapolis:20231022T093000
DTEND;TZID=America/Indiana/Indianapolis:20231022T110000
DTSTAMP:20260422T201301
CREATED:20230929T061953Z
LAST-MODIFIED:20230929T061953Z
UID:10000003-1697967000-1697972400@faithwesleyanchurch.org
SUMMARY:Morning Worship Service
DESCRIPTION:What to Expect\nCome As You Are  \nYou are home: The Scripture tells us that we are part of one family\, the family of God. No one here is perfect. In fact\, we embrace that. We embrace new families every week as we learn what it means to be part of God’s family. \nWe want you! You are God’s masterpiece\, and you are loved. So come as you are. No need to put on the jacket and tie or get a new dress. Engage with our other families as we walk through life together.
URL:https://faithwesleyanchurch.org/event/morning-worship-service-3-2/
LOCATION:Faith Church\, 6751 S Carlisle Street\, Terre Haute\, IN\, 47802\, United States
CATEGORIES:Sunday Morning Worship
ATTACH;FMTTYPE=image/jpeg:https://faithwesleyanchurch.org/wp-content/uploads/520DD335-E17A-42C2-B186-9E7060046BC4_1_201_a.jpg
END:VEVENT
END:VCALENDAR