BEGIN:VCALENDAR
VERSION:2.0
PRODID:-//Faith Wesleyan Church - ECPv6.15.17.1//NONSGML v1.0//EN
CALSCALE:GREGORIAN
METHOD:PUBLISH
X-ORIGINAL-URL:https://faithwesleyanchurch.org
X-WR-CALDESC:Events for Faith Wesleyan Church
REFRESH-INTERVAL;VALUE=DURATION:PT1H
X-Robots-Tag:noindex
X-PUBLISHED-TTL:PT1H
BEGIN:VTIMEZONE
TZID:America/Indiana/Indianapolis
BEGIN:DAYLIGHT
TZOFFSETFROM:-0500
TZOFFSETTO:-0400
TZNAME:EDT
DTSTART:20230312T070000
END:DAYLIGHT
BEGIN:STANDARD
TZOFFSETFROM:-0400
TZOFFSETTO:-0500
TZNAME:EST
DTSTART:20231105T060000
END:STANDARD
BEGIN:DAYLIGHT
TZOFFSETFROM:-0500
TZOFFSETTO:-0400
TZNAME:EDT
DTSTART:20240310T070000
END:DAYLIGHT
BEGIN:STANDARD
TZOFFSETFROM:-0400
TZOFFSETTO:-0500
TZNAME:EST
DTSTART:20241103T060000
END:STANDARD
BEGIN:DAYLIGHT
TZOFFSETFROM:-0500
TZOFFSETTO:-0400
TZNAME:EDT
DTSTART:20250309T070000
END:DAYLIGHT
BEGIN:STANDARD
TZOFFSETFROM:-0400
TZOFFSETTO:-0500
TZNAME:EST
DTSTART:20251102T060000
END:STANDARD
END:VTIMEZONE
BEGIN:VEVENT
DTSTART;VALUE=DATE:20241225
DTEND;VALUE=DATE:20241226
DTSTAMP:20260420T165827
CREATED:20241213T024352Z
LAST-MODIFIED:20241213T024352Z
UID:10002345-1735084800-1735171199@faithwesleyanchurch.org
SUMMARY:No Service Christmas Day
DESCRIPTION:There Will Be No Mid Week Refuel Service Christmas Day!
URL:https://faithwesleyanchurch.org/event/no-service-christmas-day/
LOCATION:IN
CATEGORIES:Midweek Refuel
ATTACH;FMTTYPE=image/png:https://faithwesleyanchurch.org/wp-content/uploads/Mid-Week-Refuel.png
END:VEVENT
END:VCALENDAR