BEGIN:VCALENDAR
VERSION:2.0
PRODID:-//Faith Wesleyan Church - ECPv6.15.17.1//NONSGML v1.0//EN
CALSCALE:GREGORIAN
METHOD:PUBLISH
X-WR-CALNAME:Faith Wesleyan Church
X-ORIGINAL-URL:https://faithwesleyanchurch.org
X-WR-CALDESC:Events for Faith Wesleyan Church
REFRESH-INTERVAL;VALUE=DURATION:PT1H
X-Robots-Tag:noindex
X-PUBLISHED-TTL:PT1H
BEGIN:VTIMEZONE
TZID:America/Indiana/Indianapolis
BEGIN:DAYLIGHT
TZOFFSETFROM:-0500
TZOFFSETTO:-0400
TZNAME:EDT
DTSTART:20220313T070000
END:DAYLIGHT
BEGIN:STANDARD
TZOFFSETFROM:-0400
TZOFFSETTO:-0500
TZNAME:EST
DTSTART:20221106T060000
END:STANDARD
BEGIN:DAYLIGHT
TZOFFSETFROM:-0500
TZOFFSETTO:-0400
TZNAME:EDT
DTSTART:20230312T070000
END:DAYLIGHT
BEGIN:STANDARD
TZOFFSETFROM:-0400
TZOFFSETTO:-0500
TZNAME:EST
DTSTART:20231105T060000
END:STANDARD
BEGIN:DAYLIGHT
TZOFFSETFROM:-0500
TZOFFSETTO:-0400
TZNAME:EDT
DTSTART:20240310T070000
END:DAYLIGHT
BEGIN:STANDARD
TZOFFSETFROM:-0400
TZOFFSETTO:-0500
TZNAME:EST
DTSTART:20241103T060000
END:STANDARD
END:VTIMEZONE
BEGIN:VEVENT
DTSTART;TZID=America/Indiana/Indianapolis:20231029T183000
DTEND;TZID=America/Indiana/Indianapolis:20231029T203000
DTSTAMP:20260420T180000
CREATED:20231014T062839Z
LAST-MODIFIED:20231014T062839Z
UID:10000061-1698604200-1698611400@faithwesleyanchurch.org
SUMMARY:Young Adult Fall Fun Gathering
DESCRIPTION:Join us for a fantastic time at Faith Church on Sunday\, October 29\, at 6:30pm! \nIt’s a young adult extravaganza with hayrides\, pumpkin carving contests\, delicious food\, and great company. \nNo need to bring a thing—just come and enjoy the fun and fellowship! ???
URL:https://faithwesleyanchurch.org/event/young-adult-fall-fun-gathering/
CATEGORIES:Special Event
ATTACH;FMTTYPE=image/jpeg:https://faithwesleyanchurch.org/wp-content/uploads/elizabeth-villalta-fY64k7OT6FY-unsplash.jpg
END:VEVENT
END:VCALENDAR