BEGIN:VCALENDAR
VERSION:2.0
PRODID:-//Faith Wesleyan Church - ECPv6.15.17.1//NONSGML v1.0//EN
CALSCALE:GREGORIAN
METHOD:PUBLISH
X-ORIGINAL-URL:https://faithwesleyanchurch.org
X-WR-CALDESC:Events for Faith Wesleyan Church
REFRESH-INTERVAL;VALUE=DURATION:PT1H
X-Robots-Tag:noindex
X-PUBLISHED-TTL:PT1H
BEGIN:VTIMEZONE
TZID:America/Indiana/Indianapolis
BEGIN:DAYLIGHT
TZOFFSETFROM:-0500
TZOFFSETTO:-0400
TZNAME:EDT
DTSTART:20240310T070000
END:DAYLIGHT
BEGIN:STANDARD
TZOFFSETFROM:-0400
TZOFFSETTO:-0500
TZNAME:EST
DTSTART:20241103T060000
END:STANDARD
BEGIN:DAYLIGHT
TZOFFSETFROM:-0500
TZOFFSETTO:-0400
TZNAME:EDT
DTSTART:20250309T070000
END:DAYLIGHT
BEGIN:STANDARD
TZOFFSETFROM:-0400
TZOFFSETTO:-0500
TZNAME:EST
DTSTART:20251102T060000
END:STANDARD
BEGIN:DAYLIGHT
TZOFFSETFROM:-0500
TZOFFSETTO:-0400
TZNAME:EDT
DTSTART:20260308T070000
END:DAYLIGHT
BEGIN:STANDARD
TZOFFSETFROM:-0400
TZOFFSETTO:-0500
TZNAME:EST
DTSTART:20261101T060000
END:STANDARD
END:VTIMEZONE
BEGIN:VEVENT
DTSTART;TZID=America/Indiana/Indianapolis:20251024T180000
DTEND;TZID=America/Indiana/Indianapolis:20251024T203000
DTSTAMP:20260420T201636
CREATED:20250906T114015Z
LAST-MODIFIED:20250906T114015Z
UID:10002399-1761328800-1761337800@faithwesleyanchurch.org
SUMMARY:Holy One Harvest Festival 2025
DESCRIPTION:The Holy One Harvest Festival is Back — Bigger & Better Than Ever!\nMark your calendars: October 24th & 25th\, 6:00–8:30 PM at Faith Wesleyan Church\, Terre Haute\, IN. \nThis isn’t just another fall event — it’s the 5th Annual Holy One Harvest Festival\, and it’s two nights of memory-making fun your whole family will love. Best part? It’s completely FREE! \nHere’s what’s waiting for you:\nTasty Treats on Us — Free hot dogs\, popcorn\, nachos\, and more.\nGames & Prizes — Booths for all ages with fun challenges and rewards.\nCandy Wonderland — Kids can collect sweet surprises all night long.\nMagical Hayrides — Take in the crisp autumn air on a scenic ride through Terre Haute. \nAs Pastor Steve Sanchez puts it: \n“This festival isn’t just about food and fun — it’s about bringing people together. Every laugh\, every smile\, every story shared is what makes this event so special.” \nDon’t Miss Out!\nBring your kids. Bring your neighbors. Bring your friends. Whether you come with a group or solo\, you’ll feel right at home. \nWhen: Friday & Saturday\, October 24th–25th\, 6:00–8:30 PM\nWhere: Faith Wesleyan Church\, 6751 S. Carlisle Street\, Terre Haute\, IN\nCost: FREE \nSpread the word\, download the flyer\, and get ready for two unforgettable nights of food\, fun\, and fall fellowship. \nWe’ll see you there — let’s harvest joy together this autumn!
URL:https://faithwesleyanchurch.org/event/holy-one-harvest-festival-2025/2025-10-24/
LOCATION:Faith Wesleyan Church\, 6751 S. Carlisle Street\, Terre Haute\, 47802\, United States
CATEGORIES:Special Event
ATTACH;FMTTYPE=image/png:https://faithwesleyanchurch.org/wp-content/uploads/hfadd.png
END:VEVENT
END:VCALENDAR